BEGIN:VCALENDAR
VERSION:2.0
PRODID:-//Morehead Planetarium and Science Center - ECPv6.13.2.1//NONSGML v1.0//EN
CALSCALE:GREGORIAN
METHOD:PUBLISH
X-ORIGINAL-URL:https://moreheadplanetarium.org
X-WR-CALDESC:Events for Morehead Planetarium and Science Center
REFRESH-INTERVAL;VALUE=DURATION:PT1H
X-Robots-Tag:noindex
X-PUBLISHED-TTL:PT1H
BEGIN:VTIMEZONE
TZID:America/New_York
BEGIN:DAYLIGHT
TZOFFSETFROM:-0500
TZOFFSETTO:-0400
TZNAME:EDT
DTSTART:20220313T070000
END:DAYLIGHT
BEGIN:STANDARD
TZOFFSETFROM:-0400
TZOFFSETTO:-0500
TZNAME:EST
DTSTART:20221106T060000
END:STANDARD
END:VTIMEZONE
BEGIN:VEVENT
DTSTART;TZID=America/New_York:20220730T103000
DTEND;TZID=America/New_York:20220730T113000
DTSTAMP:20260424T031244
CREATED:20220617T150350Z
LAST-MODIFIED:20220617T150350Z
UID:23737-1659177000-1659180600@moreheadplanetarium.org
SUMMARY:Magic Tree House Space Mission
DESCRIPTION:
URL:https://moreheadplanetarium.org/calendar/magic-tree-house-space-mission-67/
LOCATION:GSK Fulldome Theater
CATEGORIES:Planetarium Shows
END:VEVENT
BEGIN:VEVENT
DTSTART;TZID=America/New_York:20220730T120000
DTEND;TZID=America/New_York:20220730T130000
DTSTAMP:20260424T031244
CREATED:20220617T150350Z
LAST-MODIFIED:20220617T150350Z
UID:23738-1659182400-1659186000@moreheadplanetarium.org
SUMMARY:Take Flight
DESCRIPTION:
URL:https://moreheadplanetarium.org/calendar/take-flight-15/
LOCATION:GSK Fulldome Theater
CATEGORIES:Planetarium Shows
END:VEVENT
BEGIN:VEVENT
DTSTART;TZID=America/New_York:20220730T133000
DTEND;TZID=America/New_York:20220730T143000
DTSTAMP:20260424T031244
CREATED:20220617T150349Z
LAST-MODIFIED:20220617T150349Z
UID:23736-1659187800-1659191400@moreheadplanetarium.org
SUMMARY:Dynamic Earth
DESCRIPTION:
URL:https://moreheadplanetarium.org/calendar/dynamic-earth-14/
LOCATION:GSK Fulldome Theater
CATEGORIES:Planetarium Shows
END:VEVENT
BEGIN:VEVENT
DTSTART;TZID=America/New_York:20220730T150000
DTEND;TZID=America/New_York:20220730T160000
DTSTAMP:20260424T031244
CREATED:20220617T150351Z
LAST-MODIFIED:20220617T150351Z
UID:23739-1659193200-1659196800@moreheadplanetarium.org
SUMMARY:We Are Stars
DESCRIPTION:
URL:https://moreheadplanetarium.org/calendar/we-are-stars-62/
LOCATION:GSK Fulldome Theater
CATEGORIES:Planetarium Shows
END:VEVENT
BEGIN:VEVENT
DTSTART;TZID=America/New_York:20220730T163000
DTEND;TZID=America/New_York:20220730T173000
DTSTAMP:20260424T031244
CREATED:20220617T150349Z
LAST-MODIFIED:20220617T150349Z
UID:23735-1659198600-1659202200@moreheadplanetarium.org
SUMMARY:Carolina Skies
DESCRIPTION:
URL:https://moreheadplanetarium.org/calendar/carolina-skies-177/
LOCATION:GSK Fulldome Theater
CATEGORIES:Planetarium Shows
END:VEVENT
END:VCALENDAR