BEGIN:VCALENDAR
VERSION:2.0
PRODID:-//Morehead Planetarium and Science Center - ECPv6.13.2.1//NONSGML v1.0//EN
CALSCALE:GREGORIAN
METHOD:PUBLISH
X-WR-CALNAME:Morehead Planetarium and Science Center
X-ORIGINAL-URL:https://moreheadplanetarium.org
X-WR-CALDESC:Events for Morehead Planetarium and Science Center
REFRESH-INTERVAL;VALUE=DURATION:PT1H
X-Robots-Tag:noindex
X-PUBLISHED-TTL:PT1H
BEGIN:VTIMEZONE
TZID:America/New_York
BEGIN:DAYLIGHT
TZOFFSETFROM:-0500
TZOFFSETTO:-0400
TZNAME:EDT
DTSTART:20220313T070000
END:DAYLIGHT
BEGIN:STANDARD
TZOFFSETFROM:-0400
TZOFFSETTO:-0500
TZNAME:EST
DTSTART:20221106T060000
END:STANDARD
END:VTIMEZONE
BEGIN:VEVENT
DTSTART;TZID=America/New_York:20220716T103000
DTEND;TZID=America/New_York:20220716T113000
DTSTAMP:20260424T031207
CREATED:20220617T150332Z
LAST-MODIFIED:20220617T150332Z
UID:23698-1657967400-1657971000@moreheadplanetarium.org
SUMMARY:Magic Tree House Space Mission
DESCRIPTION:
URL:https://moreheadplanetarium.org/calendar/magic-tree-house-space-mission-65/
LOCATION:GSK Fulldome Theater
CATEGORIES:Planetarium Shows
END:VEVENT
BEGIN:VEVENT
DTSTART;TZID=America/New_York:20220716T120000
DTEND;TZID=America/New_York:20220716T130000
DTSTAMP:20260424T031207
CREATED:20220617T150332Z
LAST-MODIFIED:20220617T150332Z
UID:23699-1657972800-1657976400@moreheadplanetarium.org
SUMMARY:Take Flight
DESCRIPTION:
URL:https://moreheadplanetarium.org/calendar/take-flight-14/
LOCATION:GSK Fulldome Theater
CATEGORIES:Planetarium Shows
END:VEVENT
BEGIN:VEVENT
DTSTART;TZID=America/New_York:20220716T133000
DTEND;TZID=America/New_York:20220716T143000
DTSTAMP:20260424T031207
CREATED:20220617T150331Z
LAST-MODIFIED:20220617T150331Z
UID:23697-1657978200-1657981800@moreheadplanetarium.org
SUMMARY:Dynamic Earth
DESCRIPTION:
URL:https://moreheadplanetarium.org/calendar/dynamic-earth-12/
LOCATION:GSK Fulldome Theater
CATEGORIES:Planetarium Shows
END:VEVENT
BEGIN:VEVENT
DTSTART;TZID=America/New_York:20220716T150000
DTEND;TZID=America/New_York:20220716T160000
DTSTAMP:20260424T031207
CREATED:20220617T150332Z
LAST-MODIFIED:20220617T150332Z
UID:23700-1657983600-1657987200@moreheadplanetarium.org
SUMMARY:We Are Stars
DESCRIPTION:
URL:https://moreheadplanetarium.org/calendar/we-are-stars-58/
LOCATION:GSK Fulldome Theater
CATEGORIES:Planetarium Shows
END:VEVENT
BEGIN:VEVENT
DTSTART;TZID=America/New_York:20220716T163000
DTEND;TZID=America/New_York:20220716T173000
DTSTAMP:20260424T031207
CREATED:20220617T150331Z
LAST-MODIFIED:20220617T150331Z
UID:23696-1657989000-1657992600@moreheadplanetarium.org
SUMMARY:Carolina Skies
DESCRIPTION:
URL:https://moreheadplanetarium.org/calendar/carolina-skies-173/
LOCATION:GSK Fulldome Theater
CATEGORIES:Planetarium Shows
END:VEVENT
END:VCALENDAR