BEGIN:VCALENDAR
VERSION:2.0
PRODID:-//Morehead Planetarium and Science Center - ECPv6.13.2.1//NONSGML v1.0//EN
CALSCALE:GREGORIAN
METHOD:PUBLISH
X-ORIGINAL-URL:https://moreheadplanetarium.org
X-WR-CALDESC:Events for Morehead Planetarium and Science Center
REFRESH-INTERVAL;VALUE=DURATION:PT1H
X-Robots-Tag:noindex
X-PUBLISHED-TTL:PT1H
BEGIN:VTIMEZONE
TZID:America/New_York
BEGIN:DAYLIGHT
TZOFFSETFROM:-0500
TZOFFSETTO:-0400
TZNAME:EDT
DTSTART:20220313T070000
END:DAYLIGHT
BEGIN:STANDARD
TZOFFSETFROM:-0400
TZOFFSETTO:-0500
TZNAME:EST
DTSTART:20221106T060000
END:STANDARD
END:VTIMEZONE
BEGIN:VEVENT
DTSTART;TZID=America/New_York:20220709T103000
DTEND;TZID=America/New_York:20220709T113000
DTSTAMP:20260424T031351
CREATED:20220410T213958Z
LAST-MODIFIED:20220410T213958Z
UID:23393-1657362600-1657366200@moreheadplanetarium.org
SUMMARY:Magic Tree House Space Mission
DESCRIPTION:
URL:https://moreheadplanetarium.org/calendar/magic-tree-house-space-mission-64/
LOCATION:GSK Fulldome Theater
CATEGORIES:Planetarium Shows
END:VEVENT
BEGIN:VEVENT
DTSTART;TZID=America/New_York:20220709T120000
DTEND;TZID=America/New_York:20220709T130000
DTSTAMP:20260424T031351
CREATED:20220410T213959Z
LAST-MODIFIED:20220410T213959Z
UID:23394-1657368000-1657371600@moreheadplanetarium.org
SUMMARY:Mysteries of Your Brain
DESCRIPTION:
URL:https://moreheadplanetarium.org/calendar/mysteries-of-your-brain-25/
LOCATION:GSK Fulldome Theater
CATEGORIES:Planetarium Shows
END:VEVENT
BEGIN:VEVENT
DTSTART;TZID=America/New_York:20220709T133000
DTEND;TZID=America/New_York:20220709T143000
DTSTAMP:20260424T031351
CREATED:20220410T213959Z
LAST-MODIFIED:20220410T213959Z
UID:23395-1657373400-1657377000@moreheadplanetarium.org
SUMMARY:Dynamic Earth
DESCRIPTION:
URL:https://moreheadplanetarium.org/calendar/dynamic-earth-11/
LOCATION:GSK Fulldome Theater
CATEGORIES:Planetarium Shows
END:VEVENT
BEGIN:VEVENT
DTSTART;TZID=America/New_York:20220709T150000
DTEND;TZID=America/New_York:20220709T160000
DTSTAMP:20260424T031351
CREATED:20220410T213959Z
LAST-MODIFIED:20220410T213959Z
UID:23396-1657378800-1657382400@moreheadplanetarium.org
SUMMARY:We Are Stars
DESCRIPTION:
URL:https://moreheadplanetarium.org/calendar/we-are-stars-56/
LOCATION:GSK Fulldome Theater
CATEGORIES:Planetarium Shows
END:VEVENT
BEGIN:VEVENT
DTSTART;TZID=America/New_York:20220709T163000
DTEND;TZID=America/New_York:20220709T173000
DTSTAMP:20260424T031351
CREATED:20220410T213959Z
LAST-MODIFIED:20220410T213959Z
UID:23397-1657384200-1657387800@moreheadplanetarium.org
SUMMARY:Carolina Skies
DESCRIPTION:
URL:https://moreheadplanetarium.org/calendar/carolina-skies-171/
LOCATION:GSK Fulldome Theater
CATEGORIES:Planetarium Shows
END:VEVENT
END:VCALENDAR