BEGIN:VCALENDAR
VERSION:2.0
PRODID:-//Morehead Planetarium and Science Center - ECPv6.13.2.1//NONSGML v1.0//EN
CALSCALE:GREGORIAN
METHOD:PUBLISH
X-WR-CALNAME:Morehead Planetarium and Science Center
X-ORIGINAL-URL:https://moreheadplanetarium.org
X-WR-CALDESC:Events for Morehead Planetarium and Science Center
REFRESH-INTERVAL;VALUE=DURATION:PT1H
X-Robots-Tag:noindex
X-PUBLISHED-TTL:PT1H
BEGIN:VTIMEZONE
TZID:America/New_York
BEGIN:DAYLIGHT
TZOFFSETFROM:-0500
TZOFFSETTO:-0400
TZNAME:EDT
DTSTART:20220313T070000
END:DAYLIGHT
BEGIN:STANDARD
TZOFFSETFROM:-0400
TZOFFSETTO:-0500
TZNAME:EST
DTSTART:20221106T060000
END:STANDARD
END:VTIMEZONE
BEGIN:VEVENT
DTSTART;TZID=America/New_York:20220122T103000
DTEND;TZID=America/New_York:20220122T113000
DTSTAMP:20260424T125514
CREATED:20211115T153942Z
LAST-MODIFIED:20230520T003237Z
UID:21993-1642847400-1642851000@moreheadplanetarium.org
SUMMARY:[CANCELED] Magic Tree House Space Mission
DESCRIPTION:
URL:https://moreheadplanetarium.org/calendar/magic-tree-house-space-mission-53/
LOCATION:GSK Fulldome Theater
CATEGORIES:Planetarium Shows
END:VEVENT
BEGIN:VEVENT
DTSTART;TZID=America/New_York:20220122T120000
DTEND;TZID=America/New_York:20220122T130000
DTSTAMP:20260424T125514
CREATED:20211115T153943Z
LAST-MODIFIED:20220122T140057Z
UID:21994-1642852800-1642856400@moreheadplanetarium.org
SUMMARY:Dynamic Earth
DESCRIPTION:
URL:https://moreheadplanetarium.org/calendar/dynamic-earth-3/
LOCATION:GSK Fulldome Theater
CATEGORIES:Planetarium Shows
END:VEVENT
BEGIN:VEVENT
DTSTART;TZID=America/New_York:20220122T133000
DTEND;TZID=America/New_York:20220122T143000
DTSTAMP:20260424T125514
CREATED:20211115T153943Z
LAST-MODIFIED:20220122T140058Z
UID:21995-1642858200-1642861800@moreheadplanetarium.org
SUMMARY:Astronaut
DESCRIPTION:
URL:https://moreheadplanetarium.org/calendar/astronaut-29/
LOCATION:GSK Fulldome Theater
CATEGORIES:Planetarium Shows
END:VEVENT
BEGIN:VEVENT
DTSTART;TZID=America/New_York:20220122T150000
DTEND;TZID=America/New_York:20220122T160000
DTSTAMP:20260424T125514
CREATED:20211115T153943Z
LAST-MODIFIED:20220122T140058Z
UID:21996-1642863600-1642867200@moreheadplanetarium.org
SUMMARY:The Longest Night: A Winter’s Tale
DESCRIPTION:
URL:https://moreheadplanetarium.org/calendar/the-longest-night-a-winters-tale-34/
LOCATION:GSK Fulldome Theater
CATEGORIES:Planetarium Shows
END:VEVENT
BEGIN:VEVENT
DTSTART;TZID=America/New_York:20220122T163000
DTEND;TZID=America/New_York:20220122T173000
DTSTAMP:20260424T125514
CREATED:20211115T153944Z
LAST-MODIFIED:20220122T140058Z
UID:21997-1642869000-1642872600@moreheadplanetarium.org
SUMMARY:Carolina Skies
DESCRIPTION:
URL:https://moreheadplanetarium.org/calendar/carolina-skies-124/
LOCATION:GSK Fulldome Theater
CATEGORIES:Planetarium Shows
END:VEVENT
END:VCALENDAR