BEGIN:VCALENDAR
VERSION:2.0
PRODID:-//Morehead Planetarium and Science Center - ECPv6.13.2.1//NONSGML v1.0//EN
CALSCALE:GREGORIAN
METHOD:PUBLISH
X-ORIGINAL-URL:https://moreheadplanetarium.org
X-WR-CALDESC:Events for Morehead Planetarium and Science Center
REFRESH-INTERVAL;VALUE=DURATION:PT1H
X-Robots-Tag:noindex
X-PUBLISHED-TTL:PT1H
BEGIN:VTIMEZONE
TZID:America/New_York
BEGIN:DAYLIGHT
TZOFFSETFROM:-0500
TZOFFSETTO:-0400
TZNAME:EDT
DTSTART:20210314T070000
END:DAYLIGHT
BEGIN:STANDARD
TZOFFSETFROM:-0400
TZOFFSETTO:-0500
TZNAME:EST
DTSTART:20211107T060000
END:STANDARD
END:VTIMEZONE
BEGIN:VEVENT
DTSTART;TZID=America/New_York:20211218T103000
DTEND;TZID=America/New_York:20211218T113000
DTSTAMP:20260424T140256
CREATED:20211115T153935Z
LAST-MODIFIED:20211115T153935Z
UID:21969-1639823400-1639827000@moreheadplanetarium.org
SUMMARY:Magic Tree House Space Mission
DESCRIPTION:
URL:https://moreheadplanetarium.org/calendar/magic-tree-house-space-mission-50/
LOCATION:GSK Fulldome Theater
CATEGORIES:Planetarium Shows
END:VEVENT
BEGIN:VEVENT
DTSTART;TZID=America/New_York:20211218T120000
DTEND;TZID=America/New_York:20211218T130000
DTSTAMP:20260424T140256
CREATED:20211115T153935Z
LAST-MODIFIED:20211115T153935Z
UID:21970-1639828800-1639832400@moreheadplanetarium.org
SUMMARY:Take Flight
DESCRIPTION:
URL:https://moreheadplanetarium.org/calendar/take-flight-6/
LOCATION:GSK Fulldome Theater
CATEGORIES:Planetarium Shows
END:VEVENT
BEGIN:VEVENT
DTSTART;TZID=America/New_York:20211218T133000
DTEND;TZID=America/New_York:20211218T143000
DTSTAMP:20260424T140256
CREATED:20211115T153936Z
LAST-MODIFIED:20211115T153936Z
UID:21971-1639834200-1639837800@moreheadplanetarium.org
SUMMARY:Astronaut
DESCRIPTION:
URL:https://moreheadplanetarium.org/calendar/astronaut-26/
LOCATION:GSK Fulldome Theater
CATEGORIES:Planetarium Shows
END:VEVENT
BEGIN:VEVENT
DTSTART;TZID=America/New_York:20211218T150000
DTEND;TZID=America/New_York:20211218T160000
DTSTAMP:20260424T140256
CREATED:20211115T153936Z
LAST-MODIFIED:20211115T153936Z
UID:21972-1639839600-1639843200@moreheadplanetarium.org
SUMMARY:The Longest Night: A Winter’s Tale
DESCRIPTION:
URL:https://moreheadplanetarium.org/calendar/the-longest-night-a-winters-tale-28/
LOCATION:GSK Fulldome Theater
CATEGORIES:Planetarium Shows
END:VEVENT
BEGIN:VEVENT
DTSTART;TZID=America/New_York:20211218T163000
DTEND;TZID=America/New_York:20211218T173000
DTSTAMP:20260424T140256
CREATED:20211115T153936Z
LAST-MODIFIED:20211115T153936Z
UID:21973-1639845000-1639848600@moreheadplanetarium.org
SUMMARY:Carolina Skies
DESCRIPTION:
URL:https://moreheadplanetarium.org/calendar/carolina-skies-118/
LOCATION:GSK Fulldome Theater
CATEGORIES:Planetarium Shows
END:VEVENT
END:VCALENDAR