BEGIN:VCALENDAR
VERSION:2.0
PRODID:-//Morehead Planetarium and Science Center - ECPv6.13.2.1//NONSGML v1.0//EN
CALSCALE:GREGORIAN
METHOD:PUBLISH
X-ORIGINAL-URL:https://moreheadplanetarium.org
X-WR-CALDESC:Events for Morehead Planetarium and Science Center
REFRESH-INTERVAL;VALUE=DURATION:PT1H
X-Robots-Tag:noindex
X-PUBLISHED-TTL:PT1H
BEGIN:VTIMEZONE
TZID:America/New_York
BEGIN:DAYLIGHT
TZOFFSETFROM:-0500
TZOFFSETTO:-0400
TZNAME:EDT
DTSTART:20220313T070000
END:DAYLIGHT
BEGIN:STANDARD
TZOFFSETFROM:-0400
TZOFFSETTO:-0500
TZNAME:EST
DTSTART:20221106T060000
END:STANDARD
END:VTIMEZONE
BEGIN:VEVENT
DTSTART;TZID=America/New_York:20220916T183000
DTEND;TZID=America/New_York:20220916T192000
DTSTAMP:20260423T111400
CREATED:20220831T164119Z
LAST-MODIFIED:20220916T175312Z
UID:24391-1663353000-1663356000@moreheadplanetarium.org
SUMMARY:Carolina Skies – Members Only Screening
DESCRIPTION:
URL:https://moreheadplanetarium.org/calendar/carolina-skies-members-only-screening-2/
LOCATION:GSK Fulldome Theater
CATEGORIES:Planetarium Shows
END:VEVENT
BEGIN:VEVENT
DTSTART;TZID=America/New_York:20220917T103000
DTEND;TZID=America/New_York:20220917T113000
DTSTAMP:20260423T111400
CREATED:20220831T164055Z
LAST-MODIFIED:20220916T175312Z
UID:24393-1663410600-1663414200@moreheadplanetarium.org
SUMMARY:Earth\, Moon and Sun
DESCRIPTION:
URL:https://moreheadplanetarium.org/calendar/earth-moon-and-sun-81/
LOCATION:GSK Fulldome Theater
CATEGORIES:Planetarium Shows
END:VEVENT
BEGIN:VEVENT
DTSTART;TZID=America/New_York:20220917T133000
DTEND;TZID=America/New_York:20220917T143000
DTSTAMP:20260423T111400
CREATED:20220831T164054Z
LAST-MODIFIED:20220916T175312Z
UID:24394-1663421400-1663425000@moreheadplanetarium.org
SUMMARY:Earthquakes\, Volcanoes\, and Tsunamis
DESCRIPTION:
URL:https://moreheadplanetarium.org/calendar/earthquakes-volcanoes-and-tsunamis-91/
LOCATION:GSK Fulldome Theater
CATEGORIES:Planetarium Shows
END:VEVENT
BEGIN:VEVENT
DTSTART;TZID=America/New_York:20220917T150000
DTEND;TZID=America/New_York:20220917T160000
DTSTAMP:20260423T111400
CREATED:20220831T164054Z
LAST-MODIFIED:20220916T175313Z
UID:24396-1663426800-1663430400@moreheadplanetarium.org
SUMMARY:From Earth to the Universe
DESCRIPTION:
URL:https://moreheadplanetarium.org/calendar/from-earth-to-the-universe-68/
LOCATION:GSK Fulldome Theater
CATEGORIES:Planetarium Shows
END:VEVENT
BEGIN:VEVENT
DTSTART;TZID=America/New_York:20220917T163000
DTEND;TZID=America/New_York:20220917T173000
DTSTAMP:20260423T111400
CREATED:20220831T164053Z
LAST-MODIFIED:20220916T175313Z
UID:24398-1663432200-1663435800@moreheadplanetarium.org
SUMMARY:Carolina Skies
DESCRIPTION:
URL:https://moreheadplanetarium.org/calendar/carolina-skies-215/
LOCATION:GSK Fulldome Theater
CATEGORIES:Planetarium Shows
END:VEVENT
BEGIN:VEVENT
DTSTART;TZID=America/New_York:20220918T133000
DTEND;TZID=America/New_York:20220918T143000
DTSTAMP:20260423T111400
CREATED:20220831T164053Z
LAST-MODIFIED:20220916T175314Z
UID:24400-1663507800-1663511400@moreheadplanetarium.org
SUMMARY:Astronaut
DESCRIPTION:
URL:https://moreheadplanetarium.org/calendar/astronaut-77/
LOCATION:GSK Fulldome Theater
CATEGORIES:Planetarium Shows
END:VEVENT
BEGIN:VEVENT
DTSTART;TZID=America/New_York:20220918T150000
DTEND;TZID=America/New_York:20220918T160000
DTSTAMP:20260423T111400
CREATED:20220831T164053Z
LAST-MODIFIED:20220916T175314Z
UID:24401-1663513200-1663516800@moreheadplanetarium.org
SUMMARY:Dynamic Earth
DESCRIPTION:
URL:https://moreheadplanetarium.org/calendar/dynamic-earth-37/
LOCATION:GSK Fulldome Theater
CATEGORIES:Planetarium Shows
END:VEVENT
BEGIN:VEVENT
DTSTART;TZID=America/New_York:20220918T163000
DTEND;TZID=America/New_York:20220918T173000
DTSTAMP:20260423T111400
CREATED:20220831T164052Z
LAST-MODIFIED:20220916T175314Z
UID:24402-1663518600-1663522200@moreheadplanetarium.org
SUMMARY:Carolina Skies
DESCRIPTION:
URL:https://moreheadplanetarium.org/calendar/carolina-skies-214/
LOCATION:GSK Fulldome Theater
CATEGORIES:Planetarium Shows
END:VEVENT
BEGIN:VEVENT
DTSTART;TZID=America/New_York:20220923T133000
DTEND;TZID=America/New_York:20220923T143000
DTSTAMP:20260423T111400
CREATED:20220831T164052Z
LAST-MODIFIED:20220916T175314Z
UID:24403-1663939800-1663943400@moreheadplanetarium.org
SUMMARY:Dynamic Earth
DESCRIPTION:
URL:https://moreheadplanetarium.org/calendar/dynamic-earth-36/
LOCATION:GSK Fulldome Theater
CATEGORIES:Planetarium Shows
END:VEVENT
BEGIN:VEVENT
DTSTART;TZID=America/New_York:20220923T150000
DTEND;TZID=America/New_York:20220923T160000
DTSTAMP:20260423T111400
CREATED:20220831T164052Z
LAST-MODIFIED:20220916T175315Z
UID:24404-1663945200-1663948800@moreheadplanetarium.org
SUMMARY:Carolina Skies
DESCRIPTION:
URL:https://moreheadplanetarium.org/calendar/carolina-skies-213/
LOCATION:GSK Fulldome Theater
CATEGORIES:Planetarium Shows
END:VEVENT
BEGIN:VEVENT
DTSTART;TZID=America/New_York:20220924T103000
DTEND;TZID=America/New_York:20220924T113000
DTSTAMP:20260423T111400
CREATED:20220831T164052Z
LAST-MODIFIED:20220916T175315Z
UID:24405-1664015400-1664019000@moreheadplanetarium.org
SUMMARY:Earth\, Moon and Sun
DESCRIPTION:
URL:https://moreheadplanetarium.org/calendar/earth-moon-and-sun-79/
LOCATION:GSK Fulldome Theater
CATEGORIES:Planetarium Shows
END:VEVENT
BEGIN:VEVENT
DTSTART;TZID=America/New_York:20220924T120000
DTEND;TZID=America/New_York:20220924T130000
DTSTAMP:20260423T111400
CREATED:20220831T164052Z
LAST-MODIFIED:20220916T175315Z
UID:24406-1664020800-1664024400@moreheadplanetarium.org
SUMMARY:Cosmic Colors
DESCRIPTION:
URL:https://moreheadplanetarium.org/calendar/cosmic-colors-21/
LOCATION:GSK Fulldome Theater
CATEGORIES:Planetarium Shows
END:VEVENT
BEGIN:VEVENT
DTSTART;TZID=America/New_York:20220924T133000
DTEND;TZID=America/New_York:20220924T143000
DTSTAMP:20260423T111400
CREATED:20220831T164051Z
LAST-MODIFIED:20220916T175315Z
UID:24407-1664026200-1664029800@moreheadplanetarium.org
SUMMARY:Earthquakes\, Volcanoes\, and Tsunamis
DESCRIPTION:
URL:https://moreheadplanetarium.org/calendar/earthquakes-volcanoes-and-tsunamis-90/
LOCATION:GSK Fulldome Theater
CATEGORIES:Planetarium Shows
END:VEVENT
BEGIN:VEVENT
DTSTART;TZID=America/New_York:20220924T150000
DTEND;TZID=America/New_York:20220924T160000
DTSTAMP:20260423T111400
CREATED:20220831T164051Z
LAST-MODIFIED:20220916T175316Z
UID:24408-1664031600-1664035200@moreheadplanetarium.org
SUMMARY:From Earth to the Universe
DESCRIPTION:
URL:https://moreheadplanetarium.org/calendar/from-earth-to-the-universe-67/
LOCATION:GSK Fulldome Theater
CATEGORIES:Planetarium Shows
END:VEVENT
BEGIN:VEVENT
DTSTART;TZID=America/New_York:20220924T163000
DTEND;TZID=America/New_York:20220924T173000
DTSTAMP:20260423T111400
CREATED:20220831T164019Z
LAST-MODIFIED:20220916T175316Z
UID:24409-1664037000-1664040600@moreheadplanetarium.org
SUMMARY:Carolina Skies
DESCRIPTION:
URL:https://moreheadplanetarium.org/calendar/carolina-skies-212/
LOCATION:GSK Fulldome Theater
CATEGORIES:Planetarium Shows
END:VEVENT
BEGIN:VEVENT
DTSTART;TZID=America/New_York:20220925T133000
DTEND;TZID=America/New_York:20220925T143000
DTSTAMP:20260423T111400
CREATED:20220831T164019Z
LAST-MODIFIED:20220916T175316Z
UID:24410-1664112600-1664116200@moreheadplanetarium.org
SUMMARY:Astronaut
DESCRIPTION:
URL:https://moreheadplanetarium.org/calendar/astronaut-76/
LOCATION:GSK Fulldome Theater
CATEGORIES:Planetarium Shows
END:VEVENT
BEGIN:VEVENT
DTSTART;TZID=America/New_York:20220925T150000
DTEND;TZID=America/New_York:20220925T160000
DTSTAMP:20260423T111400
CREATED:20220831T164019Z
LAST-MODIFIED:20220916T175317Z
UID:24411-1664118000-1664121600@moreheadplanetarium.org
SUMMARY:Dynamic Earth
DESCRIPTION:
URL:https://moreheadplanetarium.org/calendar/dynamic-earth-35/
LOCATION:GSK Fulldome Theater
CATEGORIES:Planetarium Shows
END:VEVENT
BEGIN:VEVENT
DTSTART;TZID=America/New_York:20220925T163000
DTEND;TZID=America/New_York:20220925T173000
DTSTAMP:20260423T111400
CREATED:20220831T164018Z
LAST-MODIFIED:20220916T175317Z
UID:24412-1664123400-1664127000@moreheadplanetarium.org
SUMMARY:Carolina Skies
DESCRIPTION:
URL:https://moreheadplanetarium.org/calendar/carolina-skies-211/
LOCATION:GSK Fulldome Theater
CATEGORIES:Planetarium Shows
END:VEVENT
BEGIN:VEVENT
DTSTART;TZID=America/New_York:20220930T133000
DTEND;TZID=America/New_York:20220930T143000
DTSTAMP:20260423T111400
CREATED:20220831T164018Z
LAST-MODIFIED:20230520T003920Z
UID:24413-1664544600-1664548200@moreheadplanetarium.org
SUMMARY:[CANCELED] Dynamic Earth
DESCRIPTION:
URL:https://moreheadplanetarium.org/calendar/dynamic-earth-34/
LOCATION:GSK Fulldome Theater
CATEGORIES:Planetarium Shows
END:VEVENT
BEGIN:VEVENT
DTSTART;TZID=America/New_York:20220930T150000
DTEND;TZID=America/New_York:20220930T160000
DTSTAMP:20260423T111400
CREATED:20220831T164018Z
LAST-MODIFIED:20230520T004032Z
UID:24414-1664550000-1664553600@moreheadplanetarium.org
SUMMARY:[CANCELED] Carolina Skies
DESCRIPTION:
URL:https://moreheadplanetarium.org/calendar/carolina-skies-210/
LOCATION:GSK Fulldome Theater
CATEGORIES:Planetarium Shows
END:VEVENT
END:VCALENDAR