BEGIN:VCALENDAR
VERSION:2.0
PRODID:-//Morehead Planetarium and Science Center - ECPv6.13.2.1//NONSGML v1.0//EN
CALSCALE:GREGORIAN
METHOD:PUBLISH
X-ORIGINAL-URL:https://moreheadplanetarium.org
X-WR-CALDESC:Events for Morehead Planetarium and Science Center
REFRESH-INTERVAL;VALUE=DURATION:PT1H
X-Robots-Tag:noindex
X-PUBLISHED-TTL:PT1H
BEGIN:VTIMEZONE
TZID:America/New_York
BEGIN:DAYLIGHT
TZOFFSETFROM:-0500
TZOFFSETTO:-0400
TZNAME:EDT
DTSTART:20250309T070000
END:DAYLIGHT
BEGIN:STANDARD
TZOFFSETFROM:-0400
TZOFFSETTO:-0500
TZNAME:EST
DTSTART:20251102T060000
END:STANDARD
END:VTIMEZONE
BEGIN:VEVENT
DTSTART;TZID=America/New_York:20250303T080000
DTEND;TZID=America/New_York:20250304T150000
DTSTAMP:20260420T092729
CREATED:20250107T154722Z
LAST-MODIFIED:20250219T193627Z
UID:35169-1740988800-1741100400@moreheadplanetarium.org
SUMMARY:Science for All Summit
DESCRIPTION:Morehead Planetarium and Science Center hosted the inaugural Science for All Summit in April 2023 and the second annual Summit in February 2024. We are already looking forward to hosting the third annual Summit on March 3-4\, 2025. \n\n\n\nThe Summit is a community convening to advance access and opportunity in the fields of science\, technology\, engineering\, and mathematics (STEM) for people of all backgrounds and lived experiences. The purpose of the Summit is to engage educators\, practitioners\, researchers\, thought leaders\, and other change agents in conversation and knowledge-building around emerging issues and innovative strategies related to advancing access in STEM. Putting these ideals into practice requires an intentional focus on creating authentic and adaptive environments while simultaneously cultivating a community that collaborates\, innovates\, and implements promising practices shown to effect sustainable change. At the Summit\, we will provide opportunities to share new research findings\, exchange resources\, discuss strategies\, and demonstrate effective practices and interventions. \n\n\n\nThe 2025 program will include keynote addresses by Dr. André Isaacs\, Dr. Valencia Hicks-Harris\, Dr. Terrell R. Morton\, and Dr. Crystal Harden. \n\n\n\n\nLearn more about the Summit
URL:https://moreheadplanetarium.org/calendar/science-for-all-summit/
LOCATION:Friday Conference Center\, 100 Friday Center Dr\, Chapel Hill\, NC\, 27517\, United States
CATEGORIES:Teen And Adult Programs
ATTACH;FMTTYPE=image/png:https://moreheadplanetarium.org/wp-content/uploads/2025/01/SFAS-Event-Announcement-01.png
END:VEVENT
BEGIN:VEVENT
DTSTART;TZID=America/New_York:20250304T180000
DTEND;TZID=America/New_York:20250304T190000
DTSTAMP:20260420T092729
CREATED:20241218T160905Z
LAST-MODIFIED:20250224T140423Z
UID:35113-1741111200-1741114800@moreheadplanetarium.org
SUMMARY:Carolina Science Cafe | Brain-Machine Interfaces
DESCRIPTION:Connecting Minds with Machines\n\n\n\nJoin us for the next installment of the Carolina Science Cafe\, Morehead Planetarium and Science Center’s free\, current science awareness program. For the March Cafe\, we will be joined by Dr. Amol P. Yadav from the UNC-NCSU Joint Department of Biomedical Engineering at UNC-Chapel Hill to discuss his research on brain-spine interfaces\, multi-animal brain-nets and closed-loop stimulation. \n\n\n\nDesigned for adults\, this program explores science topics making national and international headlines and offers the chance to meet the experts behind the headlines. The Carolina Science Cafe is hosted at Haw River Tab & Table in Carrboro on Tuesday\, March 4th\, starting at 6:00 p.m. with light appetizers available for all attendees. Parking is available in the parking deck behind the building if the lot out front if full. \n\n\n\n\n\n\n\n\nAbout the Speaker\n\n\n\nDr. Amol Yadav is an Assistant Professor in the UNC-NCSU Joint Department of Biomedical Engineering at UNC-Chapel Hill. He earned his PhD in Biomedical Engineering in 2015 from Duke University in the laboratory of Dr. Miguel Nicolelis\, where he developed tools to advance brain-machine interfaces using spinal cord neuromodulation\, and pioneered technologies such as brain-spine interfaces\, multi-animal brain-nets and closed-loop stimulation \n\n\n\n\nHis research lies at the intersection of Neuroscience and Engineering\, and his lab specializes in spinal cord stimulation\, high-density neural recording\, computational modeling\, behavioral experimentation in rodents and human clinical trials with invasive technologies. To advance translational ideas and to bridge the gap between pre-clinical and clinical research\, the lab collaborates with surgeons\, clinicians\, basic scientists\, and other engineers. \n\n\n\n\n\n\n\nThe Carolina Science Cafe is produced by Morehead Planetarium and Science Center and sponsored by the UNC Chapter of Sigma Xi. \n\n\n\nYou do not need to register…just show up!
URL:https://moreheadplanetarium.org/calendar/carolina-science-cafe-2/
LOCATION:Haw River Tap & Table\, 300 E Main St C\, Carrboro\, NC\, 27510\, United States
CATEGORIES:Teen And Adult Programs
ATTACH;FMTTYPE=image/jpeg:https://moreheadplanetarium.org/wp-content/uploads/2023/04/Carolina-Science-Cafe-1920x842-1.jpeg
END:VEVENT
END:VCALENDAR