BEGIN:VCALENDAR
VERSION:2.0
PRODID:-//Morehead Planetarium and Science Center - ECPv6.13.2.1//NONSGML v1.0//EN
CALSCALE:GREGORIAN
METHOD:PUBLISH
X-WR-CALNAME:Morehead Planetarium and Science Center
X-ORIGINAL-URL:https://moreheadplanetarium.org
X-WR-CALDESC:Events for Morehead Planetarium and Science Center
REFRESH-INTERVAL;VALUE=DURATION:PT1H
X-Robots-Tag:noindex
X-PUBLISHED-TTL:PT1H
BEGIN:VTIMEZONE
TZID:America/New_York
BEGIN:DAYLIGHT
TZOFFSETFROM:-0500
TZOFFSETTO:-0400
TZNAME:EDT
DTSTART:20240310T070000
END:DAYLIGHT
BEGIN:STANDARD
TZOFFSETFROM:-0400
TZOFFSETTO:-0500
TZNAME:EST
DTSTART:20241103T060000
END:STANDARD
END:VTIMEZONE
BEGIN:VEVENT
DTSTART;TZID=America/New_York:20240210T103000
DTEND;TZID=America/New_York:20240210T113000
DTSTAMP:20260420T215707
CREATED:20231027T172549Z
LAST-MODIFIED:20231027T172549Z
UID:30681-1707561000-1707564600@moreheadplanetarium.org
SUMMARY:Magic Tree House Space Mission
DESCRIPTION:
URL:https://moreheadplanetarium.org/calendar/magic-tree-house-space-mission-137/
LOCATION:NC
CATEGORIES:Planetarium Shows
END:VEVENT
BEGIN:VEVENT
DTSTART;TZID=America/New_York:20240210T120000
DTEND;TZID=America/New_York:20240210T130000
DTSTAMP:20260420T215707
CREATED:20231027T172549Z
LAST-MODIFIED:20231027T172549Z
UID:30682-1707566400-1707570000@moreheadplanetarium.org
SUMMARY:Take Flight
DESCRIPTION:
URL:https://moreheadplanetarium.org/calendar/take-flight-28/
LOCATION:NC
CATEGORIES:Planetarium Shows
END:VEVENT
BEGIN:VEVENT
DTSTART;TZID=America/New_York:20240210T133000
DTEND;TZID=America/New_York:20240210T143000
DTSTAMP:20260420T215707
CREATED:20231027T172549Z
LAST-MODIFIED:20231027T172549Z
UID:30683-1707571800-1707575400@moreheadplanetarium.org
SUMMARY:Forward! To the Moon
DESCRIPTION:
URL:https://moreheadplanetarium.org/calendar/forward-to-the-moon-43/
LOCATION:NC
CATEGORIES:Planetarium Shows
END:VEVENT
BEGIN:VEVENT
DTSTART;TZID=America/New_York:20240210T150000
DTEND;TZID=America/New_York:20240210T160000
DTSTAMP:20260420T215707
CREATED:20231027T172550Z
LAST-MODIFIED:20231027T172550Z
UID:30684-1707577200-1707580800@moreheadplanetarium.org
SUMMARY:The Longest Night: A Winter's Tale
DESCRIPTION:
URL:https://moreheadplanetarium.org/calendar/the-longest-night-a-winters-tale-88/
LOCATION:NC
CATEGORIES:Planetarium Shows
END:VEVENT
BEGIN:VEVENT
DTSTART;TZID=America/New_York:20240210T163000
DTEND;TZID=America/New_York:20240210T173000
DTSTAMP:20260420T215707
CREATED:20240103T144119Z
LAST-MODIFIED:20240103T144119Z
UID:31182-1707582600-1707586200@moreheadplanetarium.org
SUMMARY:Carolina Skies: Valentine Edition
DESCRIPTION:
URL:https://moreheadplanetarium.org/calendar/carolina-skies-valentine-edition-9/
LOCATION:NC
CATEGORIES:Special Planetarium Shows
END:VEVENT
BEGIN:VEVENT
DTSTART;TZID=America/New_York:20240210T180000
DTEND;TZID=America/New_York:20240210T190000
DTSTAMP:20260420T215707
CREATED:20240103T144120Z
LAST-MODIFIED:20240103T144120Z
UID:31183-1707588000-1707591600@moreheadplanetarium.org
SUMMARY:Carolina Skies: Valentine Edition
DESCRIPTION:
URL:https://moreheadplanetarium.org/calendar/carolina-skies-valentine-edition-10/
LOCATION:NC
CATEGORIES:Special Planetarium Shows
END:VEVENT
END:VCALENDAR