BEGIN:VCALENDAR
VERSION:2.0
PRODID:-//Morehead Planetarium and Science Center - ECPv6.13.2.1//NONSGML v1.0//EN
CALSCALE:GREGORIAN
METHOD:PUBLISH
X-ORIGINAL-URL:https://moreheadplanetarium.org
X-WR-CALDESC:Events for Morehead Planetarium and Science Center
REFRESH-INTERVAL;VALUE=DURATION:PT1H
X-Robots-Tag:noindex
X-PUBLISHED-TTL:PT1H
BEGIN:VTIMEZONE
TZID:America/New_York
BEGIN:DAYLIGHT
TZOFFSETFROM:-0500
TZOFFSETTO:-0400
TZNAME:EDT
DTSTART:20230312T070000
END:DAYLIGHT
BEGIN:STANDARD
TZOFFSETFROM:-0400
TZOFFSETTO:-0500
TZNAME:EST
DTSTART:20231105T060000
END:STANDARD
END:VTIMEZONE
BEGIN:VEVENT
DTSTART;TZID=America/New_York:20230628T103000
DTEND;TZID=America/New_York:20230628T113000
DTSTAMP:20260419T135014
CREATED:20230420T142903Z
LAST-MODIFIED:20230614T123645Z
UID:28127-1687948200-1687951800@moreheadplanetarium.org
SUMMARY:Magic Tree House Space Mission
DESCRIPTION:
URL:https://moreheadplanetarium.org/calendar/magic-tree-house-space-mission-103/
LOCATION:GSK Fulldome Theater
CATEGORIES:Planetarium Shows
END:VEVENT
BEGIN:VEVENT
DTSTART;TZID=America/New_York:20230628T120000
DTEND;TZID=America/New_York:20230628T130000
DTSTAMP:20260419T135014
CREATED:20230420T142903Z
LAST-MODIFIED:20230614T123652Z
UID:28128-1687953600-1687957200@moreheadplanetarium.org
SUMMARY:Earthquakes\, Volcanoes\, and Tsunamis
DESCRIPTION:
URL:https://moreheadplanetarium.org/calendar/earthquakes-volcanoes-and-tsunamis-96/
LOCATION:GSK Fulldome Theater
CATEGORIES:Planetarium Shows
END:VEVENT
BEGIN:VEVENT
DTSTART;TZID=America/New_York:20230628T133000
DTEND;TZID=America/New_York:20230628T143000
DTSTAMP:20260419T135014
CREATED:20230420T142903Z
LAST-MODIFIED:20230614T123652Z
UID:28129-1687959000-1687962600@moreheadplanetarium.org
SUMMARY:Cosmic Colors
DESCRIPTION:
URL:https://moreheadplanetarium.org/calendar/cosmic-colors-25/
LOCATION:GSK Fulldome Theater
CATEGORIES:Planetarium Shows
END:VEVENT
BEGIN:VEVENT
DTSTART;TZID=America/New_York:20230628T150000
DTEND;TZID=America/New_York:20230628T160000
DTSTAMP:20260419T135014
CREATED:20230420T142904Z
LAST-MODIFIED:20230614T123652Z
UID:28130-1687964400-1687968000@moreheadplanetarium.org
SUMMARY:Mars: The Ultimate Voyage
DESCRIPTION:
URL:https://moreheadplanetarium.org/calendar/mars-the-ultimate-voyage-36/
LOCATION:GSK Fulldome Theater
CATEGORIES:Planetarium Shows
END:VEVENT
END:VCALENDAR