BEGIN:VCALENDAR
VERSION:2.0
PRODID:-//Morehead Planetarium and Science Center - ECPv6.13.2.1//NONSGML v1.0//EN
CALSCALE:GREGORIAN
METHOD:PUBLISH
X-ORIGINAL-URL:https://moreheadplanetarium.org
X-WR-CALDESC:Events for Morehead Planetarium and Science Center
REFRESH-INTERVAL;VALUE=DURATION:PT1H
X-Robots-Tag:noindex
X-PUBLISHED-TTL:PT1H
BEGIN:VTIMEZONE
TZID:America/New_York
BEGIN:DAYLIGHT
TZOFFSETFROM:-0500
TZOFFSETTO:-0400
TZNAME:EDT
DTSTART:20220313T070000
END:DAYLIGHT
BEGIN:STANDARD
TZOFFSETFROM:-0400
TZOFFSETTO:-0500
TZNAME:EST
DTSTART:20221106T060000
END:STANDARD
END:VTIMEZONE
BEGIN:VEVENT
DTSTART;TZID=America/New_York:20220115T103000
DTEND;TZID=America/New_York:20220115T113000
DTSTAMP:20260423T200205
CREATED:20211115T153940Z
LAST-MODIFIED:20220104T134547Z
UID:21985-1642242600-1642246200@moreheadplanetarium.org
SUMMARY:Magic Tree House Space Mission
DESCRIPTION:
URL:https://moreheadplanetarium.org/calendar/magic-tree-house-space-mission-52/
LOCATION:GSK Fulldome Theater
CATEGORIES:Planetarium Shows
END:VEVENT
BEGIN:VEVENT
DTSTART;TZID=America/New_York:20220115T120000
DTEND;TZID=America/New_York:20220115T130000
DTSTAMP:20260423T200205
CREATED:20211115T153940Z
LAST-MODIFIED:20220104T134547Z
UID:21986-1642248000-1642251600@moreheadplanetarium.org
SUMMARY:Take Flight
DESCRIPTION:
URL:https://moreheadplanetarium.org/calendar/take-flight-7/
LOCATION:GSK Fulldome Theater
CATEGORIES:Planetarium Shows
END:VEVENT
BEGIN:VEVENT
DTSTART;TZID=America/New_York:20220115T133000
DTEND;TZID=America/New_York:20220115T143000
DTSTAMP:20260423T200205
CREATED:20211115T153941Z
LAST-MODIFIED:20220104T134547Z
UID:21987-1642253400-1642257000@moreheadplanetarium.org
SUMMARY:Astronaut
DESCRIPTION:
URL:https://moreheadplanetarium.org/calendar/astronaut-28/
LOCATION:GSK Fulldome Theater
CATEGORIES:Planetarium Shows
END:VEVENT
BEGIN:VEVENT
DTSTART;TZID=America/New_York:20220115T150000
DTEND;TZID=America/New_York:20220115T160000
DTSTAMP:20260423T200205
CREATED:20211115T153941Z
LAST-MODIFIED:20220104T134548Z
UID:21988-1642258800-1642262400@moreheadplanetarium.org
SUMMARY:The Longest Night: A Winter’s Tale
DESCRIPTION:
URL:https://moreheadplanetarium.org/calendar/the-longest-night-a-winters-tale-32/
LOCATION:GSK Fulldome Theater
CATEGORIES:Planetarium Shows
END:VEVENT
BEGIN:VEVENT
DTSTART;TZID=America/New_York:20220115T163000
DTEND;TZID=America/New_York:20220115T173000
DTSTAMP:20260423T200205
CREATED:20211115T153941Z
LAST-MODIFIED:20220104T134548Z
UID:21989-1642264200-1642267800@moreheadplanetarium.org
SUMMARY:Carolina Skies
DESCRIPTION:
URL:https://moreheadplanetarium.org/calendar/carolina-skies-122/
LOCATION:GSK Fulldome Theater
CATEGORIES:Planetarium Shows
END:VEVENT
END:VCALENDAR