BEGIN:VCALENDAR
VERSION:2.0
PRODID:-//Morehead Planetarium and Science Center - ECPv6.13.2.1//NONSGML v1.0//EN
CALSCALE:GREGORIAN
METHOD:PUBLISH
X-ORIGINAL-URL:https://moreheadplanetarium.org
X-WR-CALDESC:Events for Morehead Planetarium and Science Center
REFRESH-INTERVAL;VALUE=DURATION:PT1H
X-Robots-Tag:noindex
X-PUBLISHED-TTL:PT1H
BEGIN:VTIMEZONE
TZID:America/New_York
BEGIN:DAYLIGHT
TZOFFSETFROM:-0500
TZOFFSETTO:-0400
TZNAME:EDT
DTSTART:20210314T070000
END:DAYLIGHT
BEGIN:STANDARD
TZOFFSETFROM:-0400
TZOFFSETTO:-0500
TZNAME:EST
DTSTART:20211107T060000
END:STANDARD
END:VTIMEZONE
BEGIN:VEVENT
DTSTART;TZID=America/New_York:20211009T103000
DTEND;TZID=America/New_York:20211009T113000
DTSTAMP:20260420T165542
CREATED:20210917T203901Z
LAST-MODIFIED:20210929T171614Z
UID:21622-1633775400-1633779000@moreheadplanetarium.org
SUMMARY:Magic Tree House Space Mission
DESCRIPTION:
URL:https://moreheadplanetarium.org/calendar/magic-tree-house-space-mission-40/
LOCATION:GSK Fulldome Theater
CATEGORIES:05 Planetarium Shows
END:VEVENT
BEGIN:VEVENT
DTSTART;TZID=America/New_York:20211009T120000
DTEND;TZID=America/New_York:20211009T130000
DTSTAMP:20260420T165542
CREATED:20210917T203902Z
LAST-MODIFIED:20210929T171614Z
UID:21623-1633780800-1633784400@moreheadplanetarium.org
SUMMARY:Galileo: The Power of the Telescope
DESCRIPTION:
URL:https://moreheadplanetarium.org/calendar/galileo-the-power-of-the-telescope/
LOCATION:GSK Fulldome Theater
CATEGORIES:05 Planetarium Shows
END:VEVENT
BEGIN:VEVENT
DTSTART;TZID=America/New_York:20211009T133000
DTEND;TZID=America/New_York:20211009T143000
DTSTAMP:20260420T165542
CREATED:20210917T203902Z
LAST-MODIFIED:20210929T171615Z
UID:21624-1633786200-1633789800@moreheadplanetarium.org
SUMMARY:Earthquakes\, Volcanoes\, and Tsunamis
DESCRIPTION:
URL:https://moreheadplanetarium.org/calendar/earthquakes-volcanoes-and-tsunamis-28/
LOCATION:GSK Fulldome Theater
CATEGORIES:05 Planetarium Shows
END:VEVENT
BEGIN:VEVENT
DTSTART;TZID=America/New_York:20211009T150000
DTEND;TZID=America/New_York:20211009T160000
DTSTAMP:20260420T165542
CREATED:20210917T203903Z
LAST-MODIFIED:20210929T171615Z
UID:21625-1633791600-1633795200@moreheadplanetarium.org
SUMMARY:We Are Stars
DESCRIPTION:
URL:https://moreheadplanetarium.org/calendar/we-are-stars-24/
LOCATION:GSK Fulldome Theater
CATEGORIES:05 Planetarium Shows
END:VEVENT
BEGIN:VEVENT
DTSTART;TZID=America/New_York:20211009T163000
DTEND;TZID=America/New_York:20211009T173000
DTSTAMP:20260420T165542
CREATED:20210917T203903Z
LAST-MODIFIED:20210929T171615Z
UID:21626-1633797000-1633800600@moreheadplanetarium.org
SUMMARY:Carolina Skies
DESCRIPTION:
URL:https://moreheadplanetarium.org/calendar/carolina-skies-98/
LOCATION:GSK Fulldome Theater
CATEGORIES:05 Planetarium Shows
END:VEVENT
END:VCALENDAR