BEGIN:VCALENDAR
VERSION:2.0
PRODID:-//Morehead Planetarium and Science Center - ECPv6.13.2.1//NONSGML v1.0//EN
CALSCALE:GREGORIAN
METHOD:PUBLISH
X-ORIGINAL-URL:https://moreheadplanetarium.org
X-WR-CALDESC:Events for Morehead Planetarium and Science Center
REFRESH-INTERVAL;VALUE=DURATION:PT1H
X-Robots-Tag:noindex
X-PUBLISHED-TTL:PT1H
BEGIN:VTIMEZONE
TZID:America/New_York
BEGIN:DAYLIGHT
TZOFFSETFROM:-0500
TZOFFSETTO:-0400
TZNAME:EDT
DTSTART:20210314T070000
END:DAYLIGHT
BEGIN:STANDARD
TZOFFSETFROM:-0400
TZOFFSETTO:-0500
TZNAME:EST
DTSTART:20211107T060000
END:STANDARD
END:VTIMEZONE
BEGIN:VEVENT
DTSTART;TZID=America/New_York:20210514T164500
DTEND;TZID=America/New_York:20210514T180000
DTSTAMP:20260420T153310
CREATED:20210505T202200Z
LAST-MODIFIED:20210809T195633Z
UID:20574-1621010700-1621015200@moreheadplanetarium.org
SUMMARY:Teen Science Cafe | STEM in College: A Panel Discussion
DESCRIPTION:STEM in College: A Panel Discussion with the Chancellor’s Science Scholars \n\n\n\nGraduation season is in the air! Join us for a timely Teen Science Cafe – a panel discussion with the Chancellor’s Scholars (CSS) about why they chose to pursue STEM in college; what it’s like to be a student at UNC-Chapel Hill as a CSS participant; and tips and advice for high school students who are interested in exploring STEM majors in college. \n\n\n\nSpeakers:Jasmine Akoto – Rising Senior; biology major with minors in chemistry and neuroscienceTerrique Morris – Rising Senior; psychology major with a minor in cognitive scienceAdriana Gaona – Rising Junior; biology/neuroscience double-major
URL:https://moreheadplanetarium.org/calendar/teen-science-cafe-stem-in-college-a-panel-discussion/
CATEGORIES:Teen And Adult Programs
END:VEVENT
END:VCALENDAR