BEGIN:VCALENDAR
VERSION:2.0
PRODID:-//Morehead Planetarium and Science Center - ECPv6.13.2.1//NONSGML v1.0//EN
CALSCALE:GREGORIAN
METHOD:PUBLISH
X-WR-CALNAME:Morehead Planetarium and Science Center
X-ORIGINAL-URL:https://moreheadplanetarium.org
X-WR-CALDESC:Events for Morehead Planetarium and Science Center
REFRESH-INTERVAL;VALUE=DURATION:PT1H
X-Robots-Tag:noindex
X-PUBLISHED-TTL:PT1H
BEGIN:VTIMEZONE
TZID:America/New_York
BEGIN:DAYLIGHT
TZOFFSETFROM:-0500
TZOFFSETTO:-0400
TZNAME:EDT
DTSTART:20210314T070000
END:DAYLIGHT
BEGIN:STANDARD
TZOFFSETFROM:-0400
TZOFFSETTO:-0500
TZNAME:EST
DTSTART:20211107T060000
END:STANDARD
END:VTIMEZONE
BEGIN:VEVENT
DTSTART;TZID=America/New_York:20210129T130000
DTEND;TZID=America/New_York:20210129T150000
DTSTAMP:20260420T131634
CREATED:20201220T194628Z
LAST-MODIFIED:20210127T160552Z
UID:19523-1611925200-1611932400@moreheadplanetarium.org
SUMMARY:The Longest Night: A Winter’s Tale
DESCRIPTION:
URL:https://moreheadplanetarium.org/calendar/the-longest-night-a-winters-tale-20/
LOCATION:GSK Fulldome Theater
CATEGORIES:Planetarium Shows
END:VEVENT
BEGIN:VEVENT
DTSTART;TZID=America/New_York:20210129T150000
DTEND;TZID=America/New_York:20210129T170000
DTSTAMP:20260420T131634
CREATED:20201220T194628Z
LAST-MODIFIED:20210127T160552Z
UID:19524-1611932400-1611939600@moreheadplanetarium.org
SUMMARY:Phantom of the Universe
DESCRIPTION:
URL:https://moreheadplanetarium.org/calendar/phantom-of-the-universe-9/
LOCATION:GSK Fulldome Theater
CATEGORIES:Planetarium Shows
END:VEVENT
BEGIN:VEVENT
DTSTART;TZID=America/New_York:20210129T170000
DTEND;TZID=America/New_York:20210129T190000
DTSTAMP:20260420T131634
CREATED:20201220T194629Z
LAST-MODIFIED:20210127T160552Z
UID:19525-1611939600-1611946800@moreheadplanetarium.org
SUMMARY:Carolina Skies
DESCRIPTION:
URL:https://moreheadplanetarium.org/calendar/carolina-skies-26/
LOCATION:GSK Fulldome Theater
CATEGORIES:Planetarium Shows
END:VEVENT
END:VCALENDAR