BEGIN:VCALENDAR
VERSION:2.0
PRODID:-//Morehead Planetarium and Science Center - ECPv6.13.2.1//NONSGML v1.0//EN
CALSCALE:GREGORIAN
METHOD:PUBLISH
X-WR-CALNAME:Morehead Planetarium and Science Center
X-ORIGINAL-URL:https://moreheadplanetarium.org
X-WR-CALDESC:Events for Morehead Planetarium and Science Center
REFRESH-INTERVAL;VALUE=DURATION:PT1H
X-Robots-Tag:noindex
X-PUBLISHED-TTL:PT1H
BEGIN:VTIMEZONE
TZID:America/New_York
BEGIN:DAYLIGHT
TZOFFSETFROM:-0500
TZOFFSETTO:-0400
TZNAME:EDT
DTSTART:20210314T070000
END:DAYLIGHT
BEGIN:STANDARD
TZOFFSETFROM:-0400
TZOFFSETTO:-0500
TZNAME:EST
DTSTART:20211107T060000
END:STANDARD
END:VTIMEZONE
BEGIN:VEVENT
DTSTART;TZID=America/New_York:20210117T130000
DTEND;TZID=America/New_York:20210117T150000
DTSTAMP:20260419T120615
CREATED:20201220T194624Z
LAST-MODIFIED:20210106T194151Z
UID:19512-1610888400-1610895600@moreheadplanetarium.org
SUMMARY:We Are Stars
DESCRIPTION:
URL:https://moreheadplanetarium.org/calendar/we-are-stars-10/
LOCATION:GSK Fulldome Theater
CATEGORIES:Planetarium Shows
END:VEVENT
BEGIN:VEVENT
DTSTART;TZID=America/New_York:20210117T150000
DTEND;TZID=America/New_York:20210117T170000
DTSTAMP:20260419T120615
CREATED:20201220T194624Z
LAST-MODIFIED:20210106T194151Z
UID:19513-1610895600-1610902800@moreheadplanetarium.org
SUMMARY:Carolina Skies
DESCRIPTION:
URL:https://moreheadplanetarium.org/calendar/carolina-skies-22/
LOCATION:GSK Fulldome Theater
CATEGORIES:Planetarium Shows
END:VEVENT
END:VCALENDAR