BEGIN:VCALENDAR
VERSION:2.0
PRODID:-//Morehead Planetarium and Science Center - ECPv6.13.2.1//NONSGML v1.0//EN
CALSCALE:GREGORIAN
METHOD:PUBLISH
X-WR-CALNAME:Morehead Planetarium and Science Center
X-ORIGINAL-URL:https://moreheadplanetarium.org
X-WR-CALDESC:Events for Morehead Planetarium and Science Center
REFRESH-INTERVAL;VALUE=DURATION:PT1H
X-Robots-Tag:noindex
X-PUBLISHED-TTL:PT1H
BEGIN:VTIMEZONE
TZID:America/New_York
BEGIN:DAYLIGHT
TZOFFSETFROM:-0500
TZOFFSETTO:-0400
TZNAME:EDT
DTSTART:20200308T070000
END:DAYLIGHT
BEGIN:STANDARD
TZOFFSETFROM:-0400
TZOFFSETTO:-0500
TZNAME:EST
DTSTART:20201101T060000
END:STANDARD
END:VTIMEZONE
BEGIN:VEVENT
DTSTART;TZID=America/New_York:20201110T103000
DTEND;TZID=America/New_York:20201110T113000
DTSTAMP:20260419T184150
CREATED:20201009T111200Z
LAST-MODIFIED:20201022T150312Z
UID:18709-1605004200-1605007800@moreheadplanetarium.org
SUMMARY:Experiment Expressway Middle and High School Nov 10
DESCRIPTION:Virtual STEMville!
URL:https://moreheadplanetarium.org/calendar/experiment-expressway-middle-and-high-school-nov-10/
LOCATION:Virtual Program Session
CATEGORIES:Virtual Programs
END:VEVENT
END:VCALENDAR