BEGIN:VCALENDAR
VERSION:2.0
PRODID:-//Morehead Planetarium and Science Center - ECPv6.13.2.1//NONSGML v1.0//EN
CALSCALE:GREGORIAN
METHOD:PUBLISH
X-WR-CALNAME:Morehead Planetarium and Science Center
X-ORIGINAL-URL:https://moreheadplanetarium.org
X-WR-CALDESC:Events for Morehead Planetarium and Science Center
REFRESH-INTERVAL;VALUE=DURATION:PT1H
X-Robots-Tag:noindex
X-PUBLISHED-TTL:PT1H
BEGIN:VTIMEZONE
TZID:America/New_York
BEGIN:DAYLIGHT
TZOFFSETFROM:-0500
TZOFFSETTO:-0400
TZNAME:EDT
DTSTART:20200308T070000
END:DAYLIGHT
BEGIN:STANDARD
TZOFFSETFROM:-0400
TZOFFSETTO:-0500
TZNAME:EST
DTSTART:20201101T060000
END:STANDARD
END:VTIMEZONE
BEGIN:VEVENT
DTSTART;TZID=America/New_York:20200625T100000
DTEND;TZID=America/New_York:20200625T103000
DTSTAMP:20260419T141843
CREATED:20200601T120616Z
LAST-MODIFIED:20200601T190912Z
UID:16595-1593079200-1593081000@moreheadplanetarium.org
SUMMARY:MAH | Life & death of a star
DESCRIPTION:Life and death of a star—in just half an hour\n\n\n\nExperience billions of years in the life of a star in just 30 minutes. From objects you can see with the unaided eye to dramatic Hubble Space Telescope imagery\, you can see stellar evolution at work in the sky…if you know where to look.  \n\n\n\n*Please Note: Registration is not required. The Zoom link will not be live until 10:00 a.m. If you’re having trouble accessing it\, please reload the page at 10:00 a.m. and try again.  
URL:https://moreheadplanetarium.org/calendar/mah-life-death-of-a-star/
CATEGORIES:Special Programs
END:VEVENT
END:VCALENDAR